BEGIN:VCALENDAR
VERSION:2.0
PRODID:icalendar-ruby
CALSCALE:GREGORIAN
METHOD:PUBLISH
BEGIN:VEVENT
DTSTAMP:20260421T170927Z
UID:7-1039532@oakgroveworship.org
DTSTART:20260928T100000Z
DTEND:20260928T110000Z
CLASS:PUBLIC
CREATED:20260421T130834
DESCRIPTION:
LAST-MODIFIED:20260421T130834
LOCATION:
SUMMARY:Morning Prayer
URL;VALUE=URI:https://www.oakgroveworship.org/events/morning-prayer/2026-09
 -28
ATTACH;FILENAME=Monday-Morning-Prayer.png;FMTTYPE=image/png:https://dq5pwpg
 1q8ru0.cloudfront.net/2025/09/04/21/31/29/901283da-bd17-4f7a-bb7c-6b7d0f33
 cdb4/Monday-Morning-Prayer.png
END:VEVENT
END:VCALENDAR
